BEGIN:VCALENDAR
VERSION:2.0
PRODID:-//Kids That Do Good //NONSGML Events //EN
CALSCALE:GREGORIAN
X-WR-CALNAME:Kids That Do GoodBEGIN:VEVENT
CREATED:20170117T190455Z
UID:2152
DTEND;VALUE=DATE:20260425T115822Z
DTSTART;VALUE=DATE:20260425T115822Z
DTSTAMP:20260425T115822Z
LOCATION:
DESCRIPTION:Volunteers serve in nearly every department of New England Aquarium an
SUMMARY:New England Aquarium
ORGANIZER:Sonia Sells
URL;VALUE=URI:https://kidsthatdogood.com/causes/new-england-aquarium/
TRANSP:OPAQUE
BEGIN:VALARM
ACTION:DISPLAY
TRIGGER;VALUE=DATE-TIME:20260425T115822Z
DESCRIPTION:Reminder for New England Aquarium
END:VALARM
END:VEVENT
END:VCALENDAR
