BEGIN:VCALENDAR
VERSION:2.0
PRODID:-//Kids That Do Good //NONSGML Events //EN
CALSCALE:GREGORIAN
X-WR-CALNAME:Kids That Do GoodBEGIN:VEVENT
CREATED:20170310T154620Z
UID:2875
DTEND;VALUE=DATE:20170825T153000Z
DTSTART;VALUE=DATE:20170612T083000Z
DTSTAMP:20260420T045421Z
LOCATION:
DESCRIPTION:Our mission is to create a place of lifelong learning where people, fr
SUMMARY:The Museum of Life and Science Summer Camp
ORGANIZER:Sonia Sells
URL;VALUE=URI:https://kidsthatdogood.com/causes/museum-life-science-summer-camp/
TRANSP:OPAQUE
BEGIN:VALARM
ACTION:DISPLAY
TRIGGER;VALUE=DATE-TIME:20170612T083000Z
DESCRIPTION:Reminder for The Museum of Life and Science Summer Camp
END:VALARM
END:VEVENT
END:VCALENDAR
